BEGIN:VCALENDAR
VERSION:2.0
PRODID:-//Ollemans - ECPv6.15.1.1//NONSGML v1.0//EN
CALSCALE:GREGORIAN
METHOD:PUBLISH
X-ORIGINAL-URL:https://www.ollemans.com
X-WR-CALDESC:Events for Ollemans
REFRESH-INTERVAL;VALUE=DURATION:PT1H
X-Robots-Tag:noindex
X-PUBLISHED-TTL:PT1H
BEGIN:VTIMEZONE
TZID:Europe/London
BEGIN:DAYLIGHT
TZOFFSETFROM:+0000
TZOFFSETTO:+0100
TZNAME:BST
DTSTART:20200329T010000
END:DAYLIGHT
BEGIN:STANDARD
TZOFFSETFROM:+0100
TZOFFSETTO:+0000
TZNAME:GMT
DTSTART:20201025T010000
END:STANDARD
BEGIN:DAYLIGHT
TZOFFSETFROM:+0000
TZOFFSETTO:+0100
TZNAME:BST
DTSTART:20210328T010000
END:DAYLIGHT
BEGIN:STANDARD
TZOFFSETFROM:+0100
TZOFFSETTO:+0000
TZNAME:GMT
DTSTART:20211031T010000
END:STANDARD
BEGIN:DAYLIGHT
TZOFFSETFROM:+0000
TZOFFSETTO:+0100
TZNAME:BST
DTSTART:20220327T010000
END:DAYLIGHT
BEGIN:STANDARD
TZOFFSETFROM:+0100
TZOFFSETTO:+0000
TZNAME:GMT
DTSTART:20221030T010000
END:STANDARD
BEGIN:DAYLIGHT
TZOFFSETFROM:+0000
TZOFFSETTO:+0100
TZNAME:BST
DTSTART:20230326T010000
END:DAYLIGHT
BEGIN:STANDARD
TZOFFSETFROM:+0100
TZOFFSETTO:+0000
TZNAME:GMT
DTSTART:20231029T010000
END:STANDARD
BEGIN:DAYLIGHT
TZOFFSETFROM:+0000
TZOFFSETTO:+0100
TZNAME:BST
DTSTART:20240331T010000
END:DAYLIGHT
BEGIN:STANDARD
TZOFFSETFROM:+0100
TZOFFSETTO:+0000
TZNAME:GMT
DTSTART:20241027T010000
END:STANDARD
END:VTIMEZONE
BEGIN:VEVENT
DTSTART;TZID=Europe/London:20241030T110000
DTEND;TZID=Europe/London:20241102T200000
DTSTAMP:20260423T213356
CREATED:20240719T115119Z
LAST-MODIFIED:20240719T115119Z
UID:2675-1730286000-1730577600@www.ollemans.com
SUMMARY:Fine Art London
DESCRIPTION:Fine Art London\,\nSothebys\, Bond Street\,\nLondon\,\n30.10-8.11 2024
URL:https://www.ollemans.com/event/fine-art-london/
CATEGORIES:Exhibitions
END:VEVENT
BEGIN:VEVENT
DTSTART;TZID=Europe/London:20241024T110000
DTEND;TZID=Europe/London:20241027T200000
DTSTAMP:20260423T213356
CREATED:20240719T115006Z
LAST-MODIFIED:20240719T115006Z
UID:2672-1729767600-1730059200@www.ollemans.com
SUMMARY:TAF
DESCRIPTION:De Duif\,Prinsengracht 756\nAmsterdam\n24.10-27.10 2024
URL:https://www.ollemans.com/event/taf/
CATEGORIES:Exhibitions
END:VEVENT
BEGIN:VEVENT
DTSTART;TZID=Europe/London:20241004T110000
DTEND;TZID=Europe/London:20241010T200000
DTSTAMP:20260423T213356
CREATED:20240719T114828Z
LAST-MODIFIED:20240719T114828Z
UID:2669-1728039600-1728590400@www.ollemans.com
SUMMARY:Fine Art Asia
DESCRIPTION:Convention Center Hong Kong\n4.10 -7.10.2024\nStand A1
URL:https://www.ollemans.com/event/fine-art-asia/
CATEGORIES:Exhibitions
END:VEVENT
BEGIN:VEVENT
DTSTART;TZID=Europe/London:20230308T110000
DTEND;TZID=Europe/London:20230319T200000
DTSTAMP:20260423T213356
CREATED:20230227T065120Z
LAST-MODIFIED:20230227T070903Z
UID:2482-1678273200-1679256000@www.ollemans.com
SUMMARY:Maastricht Fine Art Open House
DESCRIPTION:Maastricht Fine Art Open House\nTongerstraat 2\nMaastricht\n8 – 19th March 2023
URL:https://www.ollemans.com/event/maastricht-fine-art-open-house/
CATEGORIES:Exhibitions
END:VEVENT
BEGIN:VEVENT
DTSTART;TZID=Europe/London:20221119T080000
DTEND;TZID=Europe/London:20221127T170000
DTSTAMP:20260423T213356
CREATED:20221101T073827Z
LAST-MODIFIED:20221101T080944Z
UID:2401-1668844800-1669568400@www.ollemans.com
SUMMARY:PAN - Amsterdam
DESCRIPTION:PAN Amsterdam\nStand 89\n19 – 27th November 2022
URL:https://www.ollemans.com/event/pan/
LOCATION:PAN – Amsterdam\, Amsterdam RAI\, Hall 8\, Europaplein\, 1078 GZ\, Amsterdam\, Netherlands
CATEGORIES:Exhibitions
END:VEVENT
BEGIN:VEVENT
DTSTART;TZID=Europe/London:20200529T110000
DTEND;TZID=Europe/London:20200602T190000
DTSTAMP:20260423T213356
CREATED:20200109T160452Z
LAST-MODIFIED:20200203T131743Z
UID:716-1590750000-1591124400@www.ollemans.com
SUMMARY:International Art and Antiques Fair
DESCRIPTION:I will be exhibiting at the International Art and Antiques Fair with a collection of Asian Jewellery from China\,India\,Indonesia\,Thailand\,Cambodia\,Burma and Vietnam. Pieces date from the 5th Century CE – 19th Century CE. I will also have small handling jades from China and related gold and bronze items.
URL:https://www.ollemans.com/event/international-art-and-antiques-fair/
LOCATION:Hong Kong Convention Center\, 1 Expo Dr\, Wan Chai\, Hong Kong
CATEGORIES:Exhibitions
ATTACH;FMTTYPE=image/jpeg:https://www.ollemans.com/wp-content/uploads/2020/01/20180607-151929_iaf-small-banner-235x135_l.jpg
ORGANIZER;CN="International Art and Antiques Fair":MAILTO:iaf.hongkong@gmail.com
END:VEVENT
BEGIN:VEVENT
DTSTART;TZID=Europe/London:20200311T100000
DTEND;TZID=Europe/London:20200317T180000
DTSTAMP:20260423T213356
CREATED:20200203T121506Z
LAST-MODIFIED:20200203T121506Z
UID:902-1583920800-1584468000@www.ollemans.com
SUMMARY:ASIA WEEK NEW YORK 2020
DESCRIPTION:Sue Ollemans will be exhibiting during Asia Week New York a collection of Asian Jewellery from China\, India\, Indonesia\, Cambodia\, Vietnam\, Burma and Thailand. Items range in date from the 5th Century CE to the 19th Century CE.
URL:https://www.ollemans.com/event/asia-week-new-york-2020/
LOCATION:Gallery Vallois\, Madison Avenue and 67th Street\, New York\, NY\, 10065\, United States
CATEGORIES:Exhibitions
ATTACH;FMTTYPE=image/png:https://www.ollemans.com/wp-content/uploads/2020/01/asiaweek.png
ORGANIZER;CN="Asia Week New York":MAILTO:info@asiaweekny.com
END:VEVENT
END:VCALENDAR